BEGIN:VCALENDAR
VERSION:2.0
PRODID:-//Spruce Ridge Studios - ECPv6.15.20//NONSGML v1.0//EN
CALSCALE:GREGORIAN
METHOD:PUBLISH
X-ORIGINAL-URL:https://spruceridgestudios.com
X-WR-CALDESC:Events for Spruce Ridge Studios
REFRESH-INTERVAL;VALUE=DURATION:PT1H
X-Robots-Tag:noindex
X-PUBLISHED-TTL:PT1H
BEGIN:VTIMEZONE
TZID:America/Detroit
BEGIN:DAYLIGHT
TZOFFSETFROM:-0500
TZOFFSETTO:-0400
TZNAME:EDT
DTSTART:20240310T070000
END:DAYLIGHT
BEGIN:STANDARD
TZOFFSETFROM:-0400
TZOFFSETTO:-0500
TZNAME:EST
DTSTART:20241103T060000
END:STANDARD
BEGIN:DAYLIGHT
TZOFFSETFROM:-0500
TZOFFSETTO:-0400
TZNAME:EDT
DTSTART:20250309T070000
END:DAYLIGHT
BEGIN:STANDARD
TZOFFSETFROM:-0400
TZOFFSETTO:-0500
TZNAME:EST
DTSTART:20251102T060000
END:STANDARD
BEGIN:DAYLIGHT
TZOFFSETFROM:-0500
TZOFFSETTO:-0400
TZNAME:EDT
DTSTART:20260308T070000
END:DAYLIGHT
BEGIN:STANDARD
TZOFFSETFROM:-0400
TZOFFSETTO:-0500
TZNAME:EST
DTSTART:20261101T060000
END:STANDARD
END:VTIMEZONE
BEGIN:VEVENT
DTSTART;TZID=America/Detroit:20250918T090000
DTEND;TZID=America/Detroit:20250918T150000
DTSTAMP:20260422T011656
CREATED:20250508T140243Z
LAST-MODIFIED:20250508T140546Z
UID:25795-1758186000-1758207600@spruceridgestudios.com
SUMMARY:Heart of Wisconsin Fall Hook-In
DESCRIPTION:We will be vending at the Heart of Wisconsin Rug Hooking Guild’s Fall Hook-In.  Come shop our booth for lots of patterns\, wool\, and accessories. \nThursday September 18\, 2025\, from 9:00 am to 3:00 pm.  RSVP to the guild by September 1st.  Admission is $30.00 which includes lunch and snacks\, a silent auction\, door prizes\, and a rug show. \nVisit the Heart of Wisconsin website for a registration form and more information:  https://www.heartofwisconsinrughooking.com/hook-in.html
URL:https://spruceridgestudios.com/upcoming-event/heart-of-wisconsin-fall-hook-in/
LOCATION:Spencer Lake Christian Center\, Waupaca\, WI\, United States
END:VEVENT
END:VCALENDAR