BEGIN:VCALENDAR
VERSION:2.0
PRODID:-//Spruce Ridge Studios - ECPv6.15.20//NONSGML v1.0//EN
CALSCALE:GREGORIAN
METHOD:PUBLISH
X-ORIGINAL-URL:https://spruceridgestudios.com
X-WR-CALDESC:Events for Spruce Ridge Studios
REFRESH-INTERVAL;VALUE=DURATION:PT1H
X-Robots-Tag:noindex
X-PUBLISHED-TTL:PT1H
BEGIN:VTIMEZONE
TZID:America/Detroit
BEGIN:DAYLIGHT
TZOFFSETFROM:-0500
TZOFFSETTO:-0400
TZNAME:EDT
DTSTART:20230312T070000
END:DAYLIGHT
BEGIN:STANDARD
TZOFFSETFROM:-0400
TZOFFSETTO:-0500
TZNAME:EST
DTSTART:20231105T060000
END:STANDARD
BEGIN:DAYLIGHT
TZOFFSETFROM:-0500
TZOFFSETTO:-0400
TZNAME:EDT
DTSTART:20240310T070000
END:DAYLIGHT
BEGIN:STANDARD
TZOFFSETFROM:-0400
TZOFFSETTO:-0500
TZNAME:EST
DTSTART:20241103T060000
END:STANDARD
BEGIN:DAYLIGHT
TZOFFSETFROM:-0500
TZOFFSETTO:-0400
TZNAME:EDT
DTSTART:20250309T070000
END:DAYLIGHT
BEGIN:STANDARD
TZOFFSETFROM:-0400
TZOFFSETTO:-0500
TZNAME:EST
DTSTART:20251102T060000
END:STANDARD
END:VTIMEZONE
BEGIN:VEVENT
DTSTART;VALUE=DATE:20241020
DTEND;VALUE=DATE:20241025
DTSTAMP:20260422T180506
CREATED:20240926T020136Z
LAST-MODIFIED:20240926T020136Z
UID:25299-1729382400-1729814399@spruceridgestudios.com
SUMMARY:Historic Franklin Rug Hooking Retreat-2024
DESCRIPTION:We invite you to join us for our annual rug hooking retreat!\nPlease note:  The 2024 Retreat is full ~ wait list only\nLocation:\nThe Drury Plaza is conveniently located right off I-65 approximately 18 miles south of Nashville\, TN. The area surrounding the hotel is filled with shopping and lots of restaurants. Beautiful historic downtown Franklin is just 4 miles away and lined with antique shops\, boutiques\, galleries\, and delicious eateries. For the history buff\, there are three interesting civil war properties to tour. You may also want to visit the Arrington Vineyards\, which is a short drive away. Golf courses abound for those spouses who wish to tag along and play a few rounds. The October weather is delightful in Tennessee! Make it a true Tennessee vacation and extend your visit before or after our retreat. \nThe Retreat:\nWe offer 6 nationally known teachers with room in each class for 15 students. Join us for a Meet and Greet on Sunday evening to check in\, meet your teacher and get settled in your spot. Instruction hours are 9:00 am to 4:00 pm Monday – Thursday with a break for a catered lunch at noon. Evenings are on your own for dinner. You may return for evening hooking in the conference room until 10pm. \nFees (due with registration form):\n$430.00 tuition for residents staying at the Drury Plaza\, $480.00 tuition for commuters. Your tuition fee includes 4 days of instruction\, light snack/dessert at the Meet and Greet\, 4 catered lunches and beverages throughout the week. Dinner is on your own at the many restaurants in the area or stay for the evening KickBack meal at the Drury Plaza.
URL:https://spruceridgestudios.com/upcoming-event/historic-franklin-rug-hooking-retreat-2024-2/
LOCATION:Drury Plaza Hotel\, 1874 West McEwen Dr. Franklin\, Franklin\, TN\, 37067\, United States
ATTACH;FMTTYPE=image/jpeg:https://spruceridgestudios.com/wp-content/uploads/2024/09/IMG_6333-scaled.jpeg
END:VEVENT
END:VCALENDAR