BEGIN:VCALENDAR
VERSION:2.0
PRODID:-//Spruce Ridge Studios - ECPv6.15.20//NONSGML v1.0//EN
CALSCALE:GREGORIAN
METHOD:PUBLISH
X-WR-CALNAME:Spruce Ridge Studios
X-ORIGINAL-URL:https://spruceridgestudios.com
X-WR-CALDESC:Events for Spruce Ridge Studios
REFRESH-INTERVAL;VALUE=DURATION:PT1H
X-Robots-Tag:noindex
X-PUBLISHED-TTL:PT1H
BEGIN:VTIMEZONE
TZID:America/Detroit
BEGIN:DAYLIGHT
TZOFFSETFROM:-0500
TZOFFSETTO:-0400
TZNAME:EDT
DTSTART:20220313T070000
END:DAYLIGHT
BEGIN:STANDARD
TZOFFSETFROM:-0400
TZOFFSETTO:-0500
TZNAME:EST
DTSTART:20221106T060000
END:STANDARD
BEGIN:DAYLIGHT
TZOFFSETFROM:-0500
TZOFFSETTO:-0400
TZNAME:EDT
DTSTART:20230312T070000
END:DAYLIGHT
BEGIN:STANDARD
TZOFFSETFROM:-0400
TZOFFSETTO:-0500
TZNAME:EST
DTSTART:20231105T060000
END:STANDARD
BEGIN:DAYLIGHT
TZOFFSETFROM:-0500
TZOFFSETTO:-0400
TZNAME:EDT
DTSTART:20240310T070000
END:DAYLIGHT
BEGIN:STANDARD
TZOFFSETFROM:-0400
TZOFFSETTO:-0500
TZNAME:EST
DTSTART:20241103T060000
END:STANDARD
END:VTIMEZONE
BEGIN:VEVENT
DTSTART;VALUE=DATE:20231015
DTEND;VALUE=DATE:20231020
DTSTAMP:20260423T091125
CREATED:20230926T214835Z
LAST-MODIFIED:20230926T215010Z
UID:24912-1697328000-1697759999@spruceridgestudios.com
SUMMARY:Historic Franklin Rug Hooking Retreat - 2023
DESCRIPTION:Sunday October 15th through Thursday October 19\, 2023 \nHeld at the Drury Plaza Hotel Nashville Franklin\, 1874 West McEwen Drive\, Franklin\, TN  37067 \nTeachers:  Cheryl Bollenbach\, Michele Micarelli\, Cathy Stephan\, Diane Stoffel\, Tricia Travis\, Caroline Twigg.  The retreat is full at this time. \nVisitors Day is Wednesday October 18\, 2023 from 3:30 pm to 5:00 pm.  Visitors can shop from the teachers and the Retreat Store\, as well as visit the rug show on the 11th floor.  Please do not enter the ballrooms prior to 3:30 pm\, because our teachers will still be working with their students. \nFor more information\, contact franklinrugretreat@gmail.com \n2024 Retreat information will be posted here on October 1\, 2023.  Registration for 2024 will begin on Monday October 23\, 2023.
URL:https://spruceridgestudios.com/upcoming-event/historic-franklin-rug-hooking-retreat-2023-2/
LOCATION:Drury Plaza Hotel\, 1874 West McEwen Dr. Franklin\, Franklin\, TN\, 37067\, United States
END:VEVENT
END:VCALENDAR