BEGIN:VCALENDAR
VERSION:2.0
PRODID:-//Spruce Ridge Studios - ECPv6.15.20//NONSGML v1.0//EN
CALSCALE:GREGORIAN
METHOD:PUBLISH
X-WR-CALNAME:Spruce Ridge Studios
X-ORIGINAL-URL:https://spruceridgestudios.com
X-WR-CALDESC:Events for Spruce Ridge Studios
REFRESH-INTERVAL;VALUE=DURATION:PT1H
X-Robots-Tag:noindex
X-PUBLISHED-TTL:PT1H
BEGIN:VTIMEZONE
TZID:America/Detroit
BEGIN:DAYLIGHT
TZOFFSETFROM:-0500
TZOFFSETTO:-0400
TZNAME:EDT
DTSTART:20210314T070000
END:DAYLIGHT
BEGIN:STANDARD
TZOFFSETFROM:-0400
TZOFFSETTO:-0500
TZNAME:EST
DTSTART:20211107T060000
END:STANDARD
BEGIN:DAYLIGHT
TZOFFSETFROM:-0500
TZOFFSETTO:-0400
TZNAME:EDT
DTSTART:20220313T070000
END:DAYLIGHT
BEGIN:STANDARD
TZOFFSETFROM:-0400
TZOFFSETTO:-0500
TZNAME:EST
DTSTART:20221106T060000
END:STANDARD
BEGIN:DAYLIGHT
TZOFFSETFROM:-0500
TZOFFSETTO:-0400
TZNAME:EDT
DTSTART:20230312T070000
END:DAYLIGHT
BEGIN:STANDARD
TZOFFSETFROM:-0400
TZOFFSETTO:-0500
TZNAME:EST
DTSTART:20231105T060000
END:STANDARD
BEGIN:DAYLIGHT
TZOFFSETFROM:-0500
TZOFFSETTO:-0400
TZNAME:EDT
DTSTART:20240310T070000
END:DAYLIGHT
BEGIN:STANDARD
TZOFFSETFROM:-0400
TZOFFSETTO:-0500
TZNAME:EST
DTSTART:20241103T060000
END:STANDARD
BEGIN:DAYLIGHT
TZOFFSETFROM:-0500
TZOFFSETTO:-0400
TZNAME:EDT
DTSTART:20250309T070000
END:DAYLIGHT
BEGIN:STANDARD
TZOFFSETFROM:-0400
TZOFFSETTO:-0500
TZNAME:EST
DTSTART:20251102T060000
END:STANDARD
END:VTIMEZONE
BEGIN:VEVENT
DTSTART;VALUE=DATE:20240814
DTEND;VALUE=DATE:20240818
DTSTAMP:20260422T183837
CREATED:20240531T195803Z
LAST-MODIFIED:20240531T200715Z
UID:25129-1723593600-1723939199@spruceridgestudios.com
SUMMARY:Rug Hooking Week At Sauder Village
DESCRIPTION:Wednesday August 14 – Saturday August 17\, 2024    Vendors and rug show open each day from 10:00 am to 5:00 pm \nWe are very excited to announce that we are vending at Sauder Village this year! \nCome shop our wide\, wonderful selection of rug hooking patterns\, wool and supplies.  We will also offer a variety of exclusive kits…some are one-of-a-kind\, created just for this event! \nCheck out their website for more information:  https://saudervillage.org/classes-events/special-events/rug-hooking-week-2024 \nWe look forward to seeing you there!
URL:https://spruceridgestudios.com/upcoming-event/rug-hooking-week-at-sauder-village/
LOCATION:Sauder Village\, 22611 State Route 2\, Archbold\, OH\, 43502
ATTACH;FMTTYPE=image/jpeg:https://spruceridgestudios.com/wp-content/uploads/2024/05/IMG_4111-scaled.jpeg
END:VEVENT
BEGIN:VEVENT
DTSTART;VALUE=DATE:20240504
DTEND;VALUE=DATE:20240506
DTSTAMP:20260422T183837
CREATED:20230922T172307Z
LAST-MODIFIED:20230922T172410Z
UID:24905-1714780800-1714953599@spruceridgestudios.com
SUMMARY:Maryland Sheep & Wool Festival
DESCRIPTION:Maryland Sheep & Wool Festival \nMay 4 – 5\, 2024\nSaturday hours are 8:30 am to 6:00 pm\nSunday hours are 8:30 am to 5:00 pm\nAdmission is $10.00\, under 18 is free\nFree parking\nHoward County Fairgrounds\n2210 Fairgrounds Road\nWest Friendship\, MD 21794 \nWe are located in Barn 5\, Space 10 \nhttps://sheepandwool.org/2024-maryland-sheep-wool-festival/ \n  \n 
URL:https://spruceridgestudios.com/upcoming-event/maryland-sheep-wool-festival-2/
LOCATION:TN
END:VEVENT
BEGIN:VEVENT
DTSTART;VALUE=DATE:20231015
DTEND;VALUE=DATE:20231020
DTSTAMP:20260422T183837
CREATED:20230926T214835Z
LAST-MODIFIED:20230926T215010Z
UID:24912-1697328000-1697759999@spruceridgestudios.com
SUMMARY:Historic Franklin Rug Hooking Retreat - 2023
DESCRIPTION:Sunday October 15th through Thursday October 19\, 2023 \nHeld at the Drury Plaza Hotel Nashville Franklin\, 1874 West McEwen Drive\, Franklin\, TN  37067 \nTeachers:  Cheryl Bollenbach\, Michele Micarelli\, Cathy Stephan\, Diane Stoffel\, Tricia Travis\, Caroline Twigg.  The retreat is full at this time. \nVisitors Day is Wednesday October 18\, 2023 from 3:30 pm to 5:00 pm.  Visitors can shop from the teachers and the Retreat Store\, as well as visit the rug show on the 11th floor.  Please do not enter the ballrooms prior to 3:30 pm\, because our teachers will still be working with their students. \nFor more information\, contact franklinrugretreat@gmail.com \n2024 Retreat information will be posted here on October 1\, 2023.  Registration for 2024 will begin on Monday October 23\, 2023.
URL:https://spruceridgestudios.com/upcoming-event/historic-franklin-rug-hooking-retreat-2023-2/
LOCATION:Drury Plaza Hotel\, 1874 West McEwen Dr. Franklin\, Franklin\, TN\, 37067\, United States
END:VEVENT
BEGIN:VEVENT
DTSTART;VALUE=DATE:20230506
DTEND;VALUE=DATE:20230508
DTSTAMP:20260422T183837
CREATED:20230207T011207Z
LAST-MODIFIED:20230207T011307Z
UID:19573-1683331200-1683503999@spruceridgestudios.com
SUMMARY:Maryland Sheep & Wool Festival
DESCRIPTION:Maryland Sheep & Wool Festival\nCelebrating 50 years!\nMay 6 – 7\, 2023\nSaturday hours are 8:30 am to 6:00 pm\nSunday hours are 8:30 am to 5:00 pm\nAdmission is $10.00\, under 18 is free\nFree parking\nHoward County Fairgrounds\n2210 Fairgrounds Road\nWest Friendship\, MD 21794 \nWe are located in Barn 5\, Space 10 \nHere is a link to some helpful information: https://sheepandwool.org/info-faqs/visiting-the-festival/
URL:https://spruceridgestudios.com/upcoming-event/maryland-sheep-wool-festival/
LOCATION:TN
END:VEVENT
BEGIN:VEVENT
DTSTART;VALUE=DATE:20230427
DTEND;VALUE=DATE:20230428
DTSTAMP:20260422T183837
CREATED:20230206T221921Z
LAST-MODIFIED:20230206T222249Z
UID:19567-1682553600-1682639999@spruceridgestudios.com
SUMMARY:Cream City 32nd Annual Hook-In
DESCRIPTION:Cream City 32nd Annual Hook-In\nFeaturing The Golden Age of Illustrated Fairy Tales Rugs \nApril 27\, 2023   9:00 am to 3:00 pm\nBoerner Botanical Gardens Pavilion\n9400 Burner Dr.\nHales Corners\, WI 53130 We will be vending at this popular Hook-In. Refreshments\, lunch\, silent auction\, door prizes.\n$35.00 admission fee for all day\nPlease click on this link for on-line registration and more information:  https://www.ccrhg.net/registration
URL:https://spruceridgestudios.com/upcoming-event/cream-city-32nd-annual-hook-in/
LOCATION:TN
END:VEVENT
BEGIN:VEVENT
DTSTART;VALUE=DATE:20230401
DTEND;VALUE=DATE:20230402
DTSTAMP:20260422T183837
CREATED:20230207T010007Z
LAST-MODIFIED:20230207T010112Z
UID:19570-1680307200-1680393599@spruceridgestudios.com
SUMMARY:2023 Michigan Hook-In
DESCRIPTION:2023 Michigan Hook-In\nHosted by the Southern Michigan Rug Hookrafters\n“Once Upon A Time”\nSaturday April 1\, 2023 10:00 am to 4:00 pm\nMorris J. Lawrence Building\n4800 E. Huron River Drive\nAnn Arbor\, MI 48105\nAdmission is $30.00\, includes morning refreshments\, lunch\, door prizes\, basket raffle\, vendors\nWe will be one of the vendors. Please contact me using the website contact form\, if you need a registration form for this event and I will email it to you.
URL:https://spruceridgestudios.com/upcoming-event/2023-michigan-hook-in/
LOCATION:TN
END:VEVENT
BEGIN:VEVENT
DTSTART;VALUE=DATE:20230325
DTEND;VALUE=DATE:20230326
DTSTAMP:20260422T183837
CREATED:20230206T213606Z
LAST-MODIFIED:20230206T222053Z
UID:19562-1679702400-1679788799@spruceridgestudios.com
SUMMARY:Kansas City Hook-In
DESCRIPTION:Kansas City Hook-In\n(formerly the Rock Creek Rugs/Lenexa Hook-In)\nSaturday March 25\, 2023 9:00 am to 3:00 pm\nLenexa Community Center\, Lenexa\, Kansas \nWe will be vending at this popular hook-in. Also includes rug show and door prizes\, morning refreshments.\nFor admission prices\, on-line registration\, and more information\, please go to this link: https://www.heartandharerugs.com/new/shop/kchi-online-registration \n 
URL:https://spruceridgestudios.com/upcoming-event/kansas-city-hook-in/
LOCATION:TN
END:VEVENT
BEGIN:VEVENT
DTSTART;TZID=America/Detroit:20221203T100000
DTEND;TZID=America/Detroit:20221203T150000
DTSTAMP:20260422T183837
CREATED:20221201T023520Z
LAST-MODIFIED:20221201T023520Z
UID:17476-1670061600-1670079600@spruceridgestudios.com
SUMMARY:All The Trimmings Holiday Show
DESCRIPTION:
URL:https://spruceridgestudios.com/upcoming-event/all-the-trimmings-holiday-show/
LOCATION:TN
END:VEVENT
END:VCALENDAR