BEGIN:VCALENDAR
VERSION:2.0
PRODID:-//Spruce Ridge Studios - ECPv6.15.20//NONSGML v1.0//EN
CALSCALE:GREGORIAN
METHOD:PUBLISH
X-ORIGINAL-URL:https://spruceridgestudios.com
X-WR-CALDESC:Events for Spruce Ridge Studios
REFRESH-INTERVAL;VALUE=DURATION:PT1H
X-Robots-Tag:noindex
X-PUBLISHED-TTL:PT1H
BEGIN:VTIMEZONE
TZID:America/Detroit
BEGIN:DAYLIGHT
TZOFFSETFROM:-0500
TZOFFSETTO:-0400
TZNAME:EDT
DTSTART:20250309T070000
END:DAYLIGHT
BEGIN:STANDARD
TZOFFSETFROM:-0400
TZOFFSETTO:-0500
TZNAME:EST
DTSTART:20251102T060000
END:STANDARD
BEGIN:DAYLIGHT
TZOFFSETFROM:-0500
TZOFFSETTO:-0400
TZNAME:EDT
DTSTART:20260308T070000
END:DAYLIGHT
BEGIN:STANDARD
TZOFFSETFROM:-0400
TZOFFSETTO:-0500
TZNAME:EST
DTSTART:20261101T060000
END:STANDARD
BEGIN:DAYLIGHT
TZOFFSETFROM:-0500
TZOFFSETTO:-0400
TZNAME:EDT
DTSTART:20270314T070000
END:DAYLIGHT
BEGIN:STANDARD
TZOFFSETFROM:-0400
TZOFFSETTO:-0500
TZNAME:EST
DTSTART:20271107T060000
END:STANDARD
END:VTIMEZONE
BEGIN:VEVENT
DTSTART;VALUE=DATE:20260909
DTEND;VALUE=DATE:20260913
DTSTAMP:20260422T003155
CREATED:20260306T183735Z
LAST-MODIFIED:20260306T183735Z
UID:27575-1788912000-1789257599@spruceridgestudios.com
SUMMARY:2026 ATHA Biennial-Salt Lake City\, UT
DESCRIPTION:We are vending at this fun\, exciting event hosted by ATHA Region 10.  Dates are September 9th through September 12th and it takes place at the Little America Hotel in downtown Salt Lake City. \nTimes and more information will be posted as they become available. \nVisit the ATHA website for more information.
URL:https://spruceridgestudios.com/upcoming-event/2026-atha-biennial-salt-lake-city-ut/
LOCATION:Little America Hotel\, 500 S Main Street\, Salt Lake City\, Utah\, 84101
ATTACH;FMTTYPE=image/jpeg:https://spruceridgestudios.com/wp-content/uploads/2026/03/IMG_7625-scaled.jpeg
END:VEVENT
END:VCALENDAR