BEGIN:VCALENDAR
VERSION:2.0
PRODID:-//Spruce Ridge Studios - ECPv6.15.20//NONSGML v1.0//EN
CALSCALE:GREGORIAN
METHOD:PUBLISH
X-ORIGINAL-URL:https://spruceridgestudios.com
X-WR-CALDESC:Events for Spruce Ridge Studios
REFRESH-INTERVAL;VALUE=DURATION:PT1H
X-Robots-Tag:noindex
X-PUBLISHED-TTL:PT1H
BEGIN:VTIMEZONE
TZID:America/Detroit
BEGIN:DAYLIGHT
TZOFFSETFROM:-0500
TZOFFSETTO:-0400
TZNAME:EDT
DTSTART:20240310T070000
END:DAYLIGHT
BEGIN:STANDARD
TZOFFSETFROM:-0400
TZOFFSETTO:-0500
TZNAME:EST
DTSTART:20241103T060000
END:STANDARD
BEGIN:DAYLIGHT
TZOFFSETFROM:-0500
TZOFFSETTO:-0400
TZNAME:EDT
DTSTART:20250309T070000
END:DAYLIGHT
BEGIN:STANDARD
TZOFFSETFROM:-0400
TZOFFSETTO:-0500
TZNAME:EST
DTSTART:20251102T060000
END:STANDARD
BEGIN:DAYLIGHT
TZOFFSETFROM:-0500
TZOFFSETTO:-0400
TZNAME:EDT
DTSTART:20260308T070000
END:DAYLIGHT
BEGIN:STANDARD
TZOFFSETFROM:-0400
TZOFFSETTO:-0500
TZNAME:EST
DTSTART:20261101T060000
END:STANDARD
END:VTIMEZONE
BEGIN:VEVENT
DTSTART;VALUE=DATE:20250812
DTEND;VALUE=DATE:20250817
DTSTAMP:20260422T040515
CREATED:20250706T152007Z
LAST-MODIFIED:20250706T152007Z
UID:25884-1754956800-1755388799@spruceridgestudios.com
SUMMARY:Rug Hooking Week at Sauder Village 2025
DESCRIPTION:It’s our favorite time of year….come join us for an inspiring and creative week of rug hooking at lovely Sauder Village! \nWe are very excited to be vending again in 2025.  Look for us in the Founder’s Hall lobby.  We’ll be focusing on lots of NEW rug hooking patterns and products but bringing along a lot of your old favorites too.  We can’t wait to see you! \nRug exhibit and vendor shopping hours are Wednesday – Saturday (August 13 – 16) from 10 am to 5 pm.  Check the RHW at Sauder Village website (below) for admission fees and more information.
URL:https://spruceridgestudios.com/upcoming-event/rug-hooking-week-at-sauder-village-2025/
LOCATION:Sauder Village\, 22611 State Route 2\, Archbold\, OH\, 43502
ATTACH;FMTTYPE=image/jpeg:https://spruceridgestudios.com/wp-content/uploads/2025/07/IMG_7463-scaled.jpeg
END:VEVENT
END:VCALENDAR