BEGIN:VCALENDAR
VERSION:2.0
PRODID:-//Spruce Ridge Studios - ECPv6.15.20//NONSGML v1.0//EN
CALSCALE:GREGORIAN
METHOD:PUBLISH
X-ORIGINAL-URL:https://spruceridgestudios.com
X-WR-CALDESC:Events for Spruce Ridge Studios
REFRESH-INTERVAL;VALUE=DURATION:PT1H
X-Robots-Tag:noindex
X-PUBLISHED-TTL:PT1H
BEGIN:VTIMEZONE
TZID:America/Detroit
BEGIN:DAYLIGHT
TZOFFSETFROM:-0500
TZOFFSETTO:-0400
TZNAME:EDT
DTSTART:20240310T070000
END:DAYLIGHT
BEGIN:STANDARD
TZOFFSETFROM:-0400
TZOFFSETTO:-0500
TZNAME:EST
DTSTART:20241103T060000
END:STANDARD
BEGIN:DAYLIGHT
TZOFFSETFROM:-0500
TZOFFSETTO:-0400
TZNAME:EDT
DTSTART:20250309T070000
END:DAYLIGHT
BEGIN:STANDARD
TZOFFSETFROM:-0400
TZOFFSETTO:-0500
TZNAME:EST
DTSTART:20251102T060000
END:STANDARD
BEGIN:DAYLIGHT
TZOFFSETFROM:-0500
TZOFFSETTO:-0400
TZNAME:EDT
DTSTART:20260308T070000
END:DAYLIGHT
BEGIN:STANDARD
TZOFFSETFROM:-0400
TZOFFSETTO:-0500
TZNAME:EST
DTSTART:20261101T060000
END:STANDARD
END:VTIMEZONE
BEGIN:VEVENT
DTSTART;VALUE=DATE:20250620
DTEND;VALUE=DATE:20250622
DTSTAMP:20260422T071123
CREATED:20250225T001806Z
LAST-MODIFIED:20250228T223241Z
UID:25559-1750377600-1750550399@spruceridgestudios.com
SUMMARY:The 9th Annual Gathering of Friends at The Old Tattered Flag
DESCRIPTION:Friday\, June 20\, 2025 ~ 1/2 day workshop with Kris \nSaturday\, June 21\, 2025 ~  hook-in:  10 am to 3 pm    Come shop in our booth under the tent and see what new patterns\, products\,  and ideas we have brought for you! \nTickets go on sale on March 1\, 2025 at 10:00 am. They will sell out quickly!   Go to The Old Tattered Flag’s website for purchasing tickets and more information. \n(photo courtesy of The Old Tattered Flag)
URL:https://spruceridgestudios.com/upcoming-event/the-9th-annual-gathering-of-friends-at-the-old-tattered-flag/
LOCATION:The Old Tattered Flag\, 29606 State Rt. 12\, Watertown\, NY\, NY\, 13601\, United States
ATTACH;FMTTYPE=image/jpeg:https://spruceridgestudios.com/wp-content/uploads/2025/02/480795796_942997828041255_5487894921185214266_n.jpg
END:VEVENT
END:VCALENDAR