BEGIN:VCALENDAR
VERSION:2.0
PRODID:-//Spruce Ridge Studios - ECPv6.15.20//NONSGML v1.0//EN
CALSCALE:GREGORIAN
METHOD:PUBLISH
X-ORIGINAL-URL:https://spruceridgestudios.com
X-WR-CALDESC:Events for Spruce Ridge Studios
REFRESH-INTERVAL;VALUE=DURATION:PT1H
X-Robots-Tag:noindex
X-PUBLISHED-TTL:PT1H
BEGIN:VTIMEZONE
TZID:America/Detroit
BEGIN:DAYLIGHT
TZOFFSETFROM:-0500
TZOFFSETTO:-0400
TZNAME:EDT
DTSTART:20240310T070000
END:DAYLIGHT
BEGIN:STANDARD
TZOFFSETFROM:-0400
TZOFFSETTO:-0500
TZNAME:EST
DTSTART:20241103T060000
END:STANDARD
BEGIN:DAYLIGHT
TZOFFSETFROM:-0500
TZOFFSETTO:-0400
TZNAME:EDT
DTSTART:20250309T070000
END:DAYLIGHT
BEGIN:STANDARD
TZOFFSETFROM:-0400
TZOFFSETTO:-0500
TZNAME:EST
DTSTART:20251102T060000
END:STANDARD
BEGIN:DAYLIGHT
TZOFFSETFROM:-0500
TZOFFSETTO:-0400
TZNAME:EDT
DTSTART:20260308T070000
END:DAYLIGHT
BEGIN:STANDARD
TZOFFSETFROM:-0400
TZOFFSETTO:-0500
TZNAME:EST
DTSTART:20261101T060000
END:STANDARD
END:VTIMEZONE
BEGIN:VEVENT
DTSTART;TZID=America/Detroit:20250424T090000
DTEND;TZID=America/Detroit:20250424T150000
DTSTAMP:20260422T113528
CREATED:20250225T002750Z
LAST-MODIFIED:20250225T011224Z
UID:25564-1745485200-1745506800@spruceridgestudios.com
SUMMARY:2025 Cream City Hook-In
DESCRIPTION:I’ll be a vendor at the Cream City Hook-in on April 24\, 2025 from 9:00 am to 3:00 pm.  I’ll be bringing lots of patterns\, wool\, and other fun things that rug hookers love! \nAdmission price of $40.00 includes lunch\, beverages\, shopping\, door prizes\, and a rug show.  It’s always a fun day!  Check out the Cream City Guild’s website for more information. \nPlease let me know ahead of time if there is anything specific I can bring you and I’ll have it under my table and waiting for you the day of the hook-in. \nPhoto:  part of the fun fashion show featured at the 2024 Cream City hook-in!
URL:https://spruceridgestudios.com/upcoming-event/2025-cream-city-hook-in/
LOCATION:Zoofari Conference Center\, 9715 W. Bluemound R.\, Milwaukee\, WI\, 53213
ATTACH;FMTTYPE=image/jpeg:https://spruceridgestudios.com/wp-content/uploads/2025/02/IMG_6974-scaled.jpeg
END:VEVENT
END:VCALENDAR